BEGIN:VCALENDAR
VERSION:2.0
PRODID:-//MS Regional Housing Authority VI - ECPv6.15.18//NONSGML v1.0//EN
CALSCALE:GREGORIAN
METHOD:PUBLISH
X-ORIGINAL-URL:https://www.mrha6.org
X-WR-CALDESC:Events for MS Regional Housing Authority VI
REFRESH-INTERVAL;VALUE=DURATION:PT1H
X-Robots-Tag:noindex
X-PUBLISHED-TTL:PT1H
BEGIN:VTIMEZONE
TZID:America/Chicago
BEGIN:DAYLIGHT
TZOFFSETFROM:-0600
TZOFFSETTO:-0500
TZNAME:CDT
DTSTART:20180311T080000
END:DAYLIGHT
BEGIN:STANDARD
TZOFFSETFROM:-0500
TZOFFSETTO:-0600
TZNAME:CST
DTSTART:20181104T070000
END:STANDARD
BEGIN:DAYLIGHT
TZOFFSETFROM:-0600
TZOFFSETTO:-0500
TZNAME:CDT
DTSTART:20190310T080000
END:DAYLIGHT
BEGIN:STANDARD
TZOFFSETFROM:-0500
TZOFFSETTO:-0600
TZNAME:CST
DTSTART:20191103T070000
END:STANDARD
BEGIN:DAYLIGHT
TZOFFSETFROM:-0600
TZOFFSETTO:-0500
TZNAME:CDT
DTSTART:20200308T080000
END:DAYLIGHT
BEGIN:STANDARD
TZOFFSETFROM:-0500
TZOFFSETTO:-0600
TZNAME:CST
DTSTART:20201101T070000
END:STANDARD
END:VTIMEZONE
BEGIN:VEVENT
DTSTART;TZID=America/Chicago:20191026T083000
DTEND;TZID=America/Chicago:20191026T120000
DTSTAMP:20260423T162527
CREATED:20191007T160014Z
LAST-MODIFIED:20191007T173952Z
UID:1019-1572078600-1572091200@www.mrha6.org
SUMMARY:Community Bank Workshop
DESCRIPTION:Learn How to Build Your Credit and a Successful Financial Future \nClick here for the event program flyer
URL:https://www.mrha6.org/event/community-bank-workshop/
LOCATION:MRHA6 Boardroom\, 2180 Terry Road\, Jackson\, MS\, 39204\, United States
CATEGORIES:General Events
ORGANIZER;CN="Nelma Thomas":MAILTO:nthomas@mrha6.org
END:VEVENT
BEGIN:VEVENT
DTSTART;TZID=America/Chicago:20190715T180000
DTEND;TZID=America/Chicago:20190715T200000
DTSTAMP:20260423T162527
CREATED:20190131T070057Z
LAST-MODIFIED:20190702T023545Z
UID:1012-1563213600-1563220800@www.mrha6.org
SUMMARY:Foreclosure Prevention Workshop
DESCRIPTION:Foreclosure prevention presented by HEED-Housing Education Economic Development at MRHA6 on: \nMonday\, July 15th @ 6:00 pm
URL:https://www.mrha6.org/event/foreclosure-prevention-workshop-2/
LOCATION:MRHA6 Boardroom\, 2180 Terry Road\, Jackson\, MS\, 39204\, United States
CATEGORIES:General Events
ORGANIZER;CN="Nelma Thomas":MAILTO:nthomas@mrha6.org
END:VEVENT
BEGIN:VEVENT
DTSTART;TZID=America/Chicago:20190514T100000
DTEND;TZID=America/Chicago:20190514T120000
DTSTAMP:20260423T162527
CREATED:20190131T181320Z
LAST-MODIFIED:20190201T052503Z
UID:1010-1557828000-1557835200@www.mrha6.org
SUMMARY:Foreclosure Prevention Workshop
DESCRIPTION:Foreclosure prevention presented by HEED-Housing Education Economic Development at MRHA6 on: \nTuesday\, May 14th @ 10:00 am
URL:https://www.mrha6.org/event/foreclosure-prevention-workshop/
LOCATION:MRHA6 Boardroom\, 2180 Terry Road\, Jackson\, MS\, 39204\, United States
CATEGORIES:General Events
ORGANIZER;CN="Nelma Thomas":MAILTO:nthomas@mrha6.org
END:VEVENT
BEGIN:VEVENT
DTSTART;TZID=America/Chicago:20190406T083000
DTEND;TZID=America/Chicago:20190406T120000
DTSTAMP:20260423T162527
CREATED:20190123T171051Z
LAST-MODIFIED:20190201T052558Z
UID:860-1554539400-1554552000@www.mrha6.org
SUMMARY:Community Bank Workshop
DESCRIPTION:Learn How to Build Your Credit and a Successful Financial Future \nClick here for the event program flyer
URL:https://www.mrha6.org/event/community-bank-bank-workshop/
LOCATION:MRHA6 Boardroom\, 2180 Terry Road\, Jackson\, MS\, 39204\, United States
CATEGORIES:General Events
ORGANIZER;CN="Nelma Thomas":MAILTO:nthomas@mrha6.org
END:VEVENT
BEGIN:VEVENT
DTSTART;TZID=America/Chicago:20190225T173000
DTEND;TZID=America/Chicago:20190225T200000
DTSTAMP:20260423T162527
CREATED:20190128T223010Z
LAST-MODIFIED:20190131T185508Z
UID:990-1551115800-1551124800@www.mrha6.org
SUMMARY:Financial Education Boot Camp
DESCRIPTION:REGISTRATION IS FREE. CLICK HERE TO REGISTER \nThe Boot Camp will meet on Monday nights on the following dates \nFebruary 25\, 2019 – (6:00 p.m. – 8:00 p.m.) – registration – 5:30 p.m.\nMarch 4\, 2019 – (6:00 p.m. – 8:00 p.m.)\nMarch 11\, 2019 – (6:00 p.m. – 8:00 p.m.)\nMarch 18\, 2019 – (6:00 p.m. – 8:30 p.m.)\nMarch 25\, 2019 – (6:00 p.m. – 8:00 p.m.) \nThe Financial Fitness Boot Camp\, a five week program meeting one night per week\, helps individuals build assets by reducing debt\, increasing savings and gaining financial confidence. Over the five weeks the participants will learn how to set realistic and attainable financial goals\, develop and maintain a spending plan\, take advantage of traditional checking and savings accounts\, gain access to low cost bank and credit building products\, and learn how good financial management can have a positive impact on their overall quality of life. \nClick here for the event program flyer \n  \nFAQs \nHow can I contact the organizer with any questions? \nPlease contact one of the following persons. \nRoslin Burns – 601-714-3942 – rburns@mrha6.org \nAre there ID or minimum age requirements to enter the event? \nYes\, 18 and above. \nDo I have to bring my printed ticket to the event? \nYes\, please bring your printed ticket. \nIs my registration fee or ticket transferable? \nNo\, your ticket is not transferable. If you know someone who would like to attend\, please have them register. \nIs it ok if the name on my ticket or registration doesn’t match the person who attends? \nWe would like to have the person who registered to attend. If you are not able to attend\, please go and cancel your registration. \n 
URL:https://www.mrha6.org/event/mcfac-financial-education-boot-camp/
LOCATION:MRHA6 Boardroom\, 2180 Terry Road\, Jackson\, MS\, 39204\, United States
CATEGORIES:General Events
ORGANIZER;CN="Roslin Burns":MAILTO:rburns@mrha6.org
END:VEVENT
END:VCALENDAR